Workbook

Sheet Planilha1
A2: ESTOQUE NEOZ | F2: Data da posição | G2: =[1]Relatório!B1 -> 46323
A3: Posição de arames por tipo, bitola e norma técnica — valores em quilogramas (kg) | F3: Estoque exibido | G3: =SUBTOTAL(109,[1]!TabEstoque[Total (kg)]) -> 444432.95
A4: Sujeito a alterações durante o dia | F4: Itens exibidos | G4: =SUBTOTAL(102,[1]!TabEstoque[Total (kg)]) -> 279
A7: Tipo | B7: Bitola (mm) | C7: Norma | D7: Descrição | E7: Embalagem | F7: Total (kg) | G7: Situação
A8: =IF([1]Relatório!$J5="","",[1]Relatório!H5) -> ATC | B8: =IF([1]Relatório!$J5="","",[1]Relatório!I5) -> 0.45 | C8: =IF([1]Relatório!$J5="","",IF([1]Relatório!C5="","—",[1]Relatório!C5)) -> DIN 17223/64-B | D8: =IF([1]Relatório!$J5="","",TRIM([1]Relatório!D5)) -> Arame ATC Fosfatizado | E8: =IF([1]Relatório!$J5="","",IF([1]Relatório!E5="","—",[1]Relatório!E5)) -> — | F8: =IF([1]Relatório!$J5="","",[1]Relatório!F5) -> 1670.5 | G8: =[1]Relatório!J5 -> Disponível
A9: =IF([1]Relatório!$J6="","",[1]Relatório!H6) -> ATC | B9: =IF([1]Relatório!$J6="","",[1]Relatório!I6) -> 0.45 | C9: =IF([1]Relatório!$J6="","",IF([1]Relatório!C6="","—",[1]Relatório!C6)) -> DIN 17223/84-D I | D9: =IF([1]Relatório!$J6="","",TRIM([1]Relatório!D6)) -> Arame ATC Fosfatizado | E9: =IF([1]Relatório!$J6="","",IF([1]Relatório!E6="","—",[1]Relatório!E6)) -> — | F9: =IF([1]Relatório!$J6="","",[1]Relatório!F6) -> 506 | G9: =[1]Relatório!J6 -> Disponível
A10: =IF([1]Relatório!$J7="","",[1]Relatório!H7) -> ATC | B10: =IF([1]Relatório!$J7="","",[1]Relatório!I7) -> 0.5 | C10: =IF([1]Relatório!$J7="","",IF([1]Relatório!C7="","—",[1]Relatório!C7)) -> DIN 17223/64-B | D10: =IF([1]Relatório!$J7="","",TRIM([1]Relatório!D7)) -> Arame ATC Fosfatizado | E10: =IF([1]Relatório!$J7="","",IF([1]Relatório!E7="","—",[1]Relatório!E7)) -> — | F10: =IF([1]Relatório!$J7="","",[1]Relatório!F7) -> 235.5 | G10: =[1]Relatório!J7 -> Disponível
A11: =IF([1]Relatório!$J8="","",[1]Relatório!H8) -> ATC | B11: =IF([1]Relatório!$J8="","",[1]Relatório!I8) -> 0.5 | C11: =IF([1]Relatório!$J8="","",IF([1]Relatório!C8="","—",[1]Relatório!C8)) -> DIN 17223/84-D I | D11: =IF([1]Relatório!$J8="","",TRIM([1]Relatório!D8)) -> Arame ATC Fosfatizado | E11: =IF([1]Relatório!$J8="","",IF([1]Relatório!E8="","—",[1]Relatório!E8)) -> — | F11: =IF([1]Relatório!$J8="","",[1]Relatório!F8) -> 308.5 | G11: =[1]Relatório!J8 -> Disponível
A12: =IF([1]Relatório!$J9="","",[1]Relatório!H9) -> ATC | B12: =IF([1]Relatório!$J9="","",[1]Relatório!I9) -> 0.53 | C12: =IF([1]Relatório!$J9="","",IF([1]Relatório!C9="","—",[1]Relatório!C9)) -> MN21084 | D12: =IF([1]Relatório!$J9="","",TRIM([1]Relatório!D9)) -> Arame ATC Fosfatizado | E12: =IF([1]Relatório!$J9="","",IF([1]Relatório!E9="","—",[1]Relatório!E9)) -> — | F12: =IF([1]Relatório!$J9="","",[1]Relatório!F9) -> 136.5 | G12: =[1]Relatório!J9 -> Disponível
A13: =IF([1]Relatório!$J10="","",[1]Relatório!H10) -> ATC | B13: =IF([1]Relatório!$J10="","",[1]Relatório!I10) -> 0.55 | C13: =IF([1]Relatório!$J10="","",IF([1]Relatório!C10="","—",[1]Relatório!C10)) -> DIN 17223/84-B I | D13: =IF([1]Relatório!$J10="","",TRIM([1]Relatório!D10)) -> Arame ATC Fosfatizado | E13: =IF([1]Relatório!$J10="","",IF([1]Relatório!E10="","—",[1]Relatório!E10)) -> — | F13: =IF([1]Relatório!$J10="","",[1]Relatório!F10) -> 136 | G13: =[1]Relatório!J10 -> Disponível
A14: =IF([1]Relatório!$J11="","",[1]Relatório!H11) -> ATC | B14: =IF([1]Relatório!$J11="","",[1]Relatório!I11) -> 0.55 | C14: =IF([1]Relatório!$J11="","",IF([1]Relatório!C11="","—",[1]Relatório!C11)) -> DIN 17223/84-D I | D14: =IF([1]Relatório!$J11="","",TRIM([1]Relatório!D11)) -> Arame ATC Fosfatizado | E14: =IF([1]Relatório!$J11="","",IF([1]Relatório!E11="","—",[1]Relatório!E11)) -> — | F14: =IF([1]Relatório!$J11="","",[1]Relatório!F11) -> 553 | G14: =[1]Relatório!J11 -> Disponível
A15: =IF([1]Relatório!$J12="","",[1]Relatório!H12) -> ATC | B15: =IF([1]Relatório!$J12="","",[1]Relatório!I12) -> 0.6 | C15: =IF([1]Relatório!$J12="","",IF([1]Relatório!C12="","—",[1]Relatório!C12)) -> DIN 17223/64-C | D15: =IF([1]Relatório!$J12="","",TRIM([1]Relatório!D12)) -> Arame ATC Fosfatizado | E15: =IF([1]Relatório!$J12="","",IF([1]Relatório!E12="","—",[1]Relatório!E12)) -> — | F15: =IF([1]Relatório!$J12="","",[1]Relatório!F12) -> 649 | G15: =[1]Relatório!J12 -> Disponível
A16: =IF([1]Relatório!$J13="","",[1]Relatório!H13) -> ATC | B16: =IF([1]Relatório!$J13="","",[1]Relatório!I13) -> 0.6 | C16: =IF([1]Relatório!$J13="","",IF([1]Relatório!C13="","—",[1]Relatório!C13)) -> MN22550 | D16: =IF([1]Relatório!$J13="","",TRIM([1]Relatório!D13)) -> Arame ATC Fosfatizado | E16: =IF([1]Relatório!$J13="","",IF([1]Relatório!E13="","—",[1]Relatório!E13)) -> — | F16: =IF([1]Relatório!$J13="","",[1]Relatório!F13) -> 4378.5 | G16: =[1]Relatório!J13 -> Disponível
A17: =IF([1]Relatório!$J14="","",[1]Relatório!H14) -> ATC | B17: =IF([1]Relatório!$J14="","",[1]Relatório!I14) -> 0.6 | C17: =IF([1]Relatório!$J14="","",IF([1]Relatório!C14="","—",[1]Relatório!C14)) -> EN 10270/1-SH | D17: =IF([1]Relatório!$J14="","",TRIM([1]Relatório!D14)) -> Arame ATC Fosfatizado | E17: =IF([1]Relatório!$J14="","",IF([1]Relatório!E14="","—",[1]Relatório!E14)) -> — | F17: =IF([1]Relatório!$J14="","",[1]Relatório!F14) -> 827 | G17: =[1]Relatório!J14 -> Disponível
A18: =IF([1]Relatório!$J15="","",[1]Relatório!H15) -> ATC | B18: =IF([1]Relatório!$J15="","",[1]Relatório!I15) -> 0.65 | C18: =IF([1]Relatório!$J15="","",IF([1]Relatório!C15="","—",[1]Relatório!C15)) -> DIN 17223/64-C | D18: =IF([1]Relatório!$J15="","",TRIM([1]Relatório!D15)) -> Arame ATC Fosfatizado | E18: =IF([1]Relatório!$J15="","",IF([1]Relatório!E15="","—",[1]Relatório!E15)) -> — | F18: =IF([1]Relatório!$J15="","",[1]Relatório!F15) -> 405 | G18: =[1]Relatório!J15 -> Disponível
A19: =IF([1]Relatório!$J16="","",[1]Relatório!H16) -> ATC | B19: =IF([1]Relatório!$J16="","",[1]Relatório!I16) -> 0.7 | C19: =IF([1]Relatório!$J16="","",IF([1]Relatório!C16="","—",[1]Relatório!C16)) -> DIN 17223/64-C | D19: =IF([1]Relatório!$J16="","",TRIM([1]Relatório!D16)) -> Arame ATC Fosfatizado | E19: =IF([1]Relatório!$J16="","",IF([1]Relatório!E16="","—",[1]Relatório!E16)) -> — | F19: =IF([1]Relatório!$J16="","",[1]Relatório!F16) -> 54.5 | G19: =[1]Relatório!J16 -> Estoque baixo
... A292: =IF([1]Relatório!$J289="","",[1]Relatório!H289) | B292: =IF([1]Relatório!$J289="","",[1]Relatório!I289) | C292: =IF([1]Relatório!$J289="","",IF([1]Relatório!C289="","—",[1]Relatório!C289)) | D292: =IF([1]Relatório!$J289="","",TRIM([1]Relatório!D289)) | E292: =IF([1]Relatório!$J289="","",IF([1]Relatório!E289="","—",[1]Relatório!E289)) | F292: =IF([1]Relatório!$J289="","",[1]Relatório!F289) | G292: =[1]Relatório!J289
